BEGIN:VCALENDAR
VERSION:2.0
PRODID:-//Tukios.com/
BEGIN:VEVENT
UID:04489539-3174-48c4-bfd0-64eea57f3b99@www.halesfuneralhomes.com
DTSTAMP:20260423T203058Z
DTSTART:20260424T170000Z
DTEND:20260424T230000Z
SUMMARY:Viewing for James Thomas Hefley Jr.
DESCRIPTION:
URL:https://www.halesfuneralhomes.com/obituaries/james-hefley
LOCATION:Hale's Funeral Home 202 South 4th Street  Davis OK 73030
GEO:34.5037282;-97.1175578
END:VEVENT
END:VCALENDAR