BEGIN:VCALENDAR
VERSION:2.0
PRODID:-//Tukios.com/
BEGIN:VEVENT
UID:d0c03c17-385e-436f-bc99-2e382219db9c@www.halesfuneralhomes.com
DTSTAMP:20260423T203058Z
DTSTART:20260425T150000Z
DTEND:20260425T160000Z
SUMMARY:Funeral for James Thomas Hefley Jr.
DESCRIPTION:
URL:https://www.halesfuneralhomes.com/obituaries/james-hefley
LOCATION:First Baptist Church 208 South 3rd Street  Davis OK 73030
GEO:34.5031525;-97.1185671
END:VEVENT
END:VCALENDAR